BEGIN:VCALENDAR
VERSION:2.0
PRODID:-//wp-events-plugin.com//7.2.3.1//EN
TZID:Europe/Amsterdam
X-WR-TIMEZONE:Europe/Amsterdam
BEGIN:VEVENT
UID:450@plechelmus-parochie.nl
DTSTART;TZID=Europe/Amsterdam:20260523T190000
DTEND;TZID=Europe/Amsterdam:20260523T190000
DTSTAMP:20260424T121047Z
URL:https://www.plechelmus-parochie.nl/evenementen/eucharistie-vormselvier
 ing/
SUMMARY:Eucharistie - Vormselviering
DESCRIPTION:Vormselviering - Eucharistie in de Basiliek  - voorgangers Pas
 tor Th. van der Sman pr. en Pastor M. Beene pw m.m.v. Koor Triple One.\n\n
 Viering toedienen H. Vormsel\, aan alle vormelingen in de Parochie H. Plec
 helmus\, in de Basiliek in Oldenzaal.\n\nKijk hier voor de lezingen in het
  weekend van 24 mei 2026\n\nInfo over het H. Vormsel\n\n&nbsp\;
ATTACH;FMTTYPE=image/jpeg:https://www.plechelmus-parochie.nl/wp-content/up
 loads/2024/07/1000_categorie_eucharistieviering.jpg
CATEGORIES:Viering H. Vormsel
LOCATION:Plechelmusbasiliek\, Plechelmusplein 10\, Oldenzaal\, Overijssel\,
  7571 EG\, Twente\, Nederland
GEO:52.312407;6.928814
X-APPLE-STRUCTURED-LOCATION;VALUE=URI;X-ADDRESS=Plechelmusplein 10\, Oldenz
 aal\, Overijssel\, 7571 EG\, Twente\, Nederland;X-APPLE-RADIUS=100;X-TITLE
 =Plechelmusbasiliek:geo:52.312407,6.928814
END:VEVENT
BEGIN:VTIMEZONE
TZID:Europe/Amsterdam
X-LIC-LOCATION:Europe/Amsterdam
BEGIN:DAYLIGHT
DTSTART:20260329T030000
TZOFFSETFROM:+0100
TZOFFSETTO:+0200
TZNAME:CEST
END:DAYLIGHT
END:VTIMEZONE
END:VCALENDAR