BEGIN:VCALENDAR
VERSION:2.0
PRODID:-//wp-events-plugin.com//7.2.3.1//EN
TZID:Europe/Amsterdam
X-WR-TIMEZONE:Europe/Amsterdam
BEGIN:VEVENT
UID:416@plechelmus-parochie.nl
DTSTART;TZID=Europe/Amsterdam:20251224T190000
DTEND;TZID=Europe/Amsterdam:20251224T190000
DTSTAMP:20251119T191643Z
URL:https://www.plechelmus-parochie.nl/evenementen/eucharistieviering-nach
 tmis-in-de-antoniuskerk/
SUMMARY:Eucharistieviering - Nachtmis in de Antoniuskerk
DESCRIPTION:Eucharistieviering - Nachtmis op Kerstavond H. Antonius - voorg
 anger Pastor Th. van der Sman pr. m.m.v. koor Triple One.\n\nKijk hier voo
 r de lezingen op 24 december 2025.\n\nMeer info over Kerst\n\n
ATTACH;FMTTYPE=image/jpeg:https://www.plechelmus-parochie.nl/wp-content/up
 loads/2024/07/1000_categorie_eucharistieviering.jpg
CATEGORIES:Eucharistieviering
LOCATION:Antoniuskerk Oldenzaal\, Spoorstraat 2\, Oldenzaal\, Overijssel\, 
 7472 CZ\, Nederland
GEO:52.307886;6.927518
X-APPLE-STRUCTURED-LOCATION;VALUE=URI;X-ADDRESS=Spoorstraat 2\, Oldenzaal\,
  Overijssel\, 7472 CZ\, Nederland;X-APPLE-RADIUS=100;X-TITLE=Antoniuskerk 
 Oldenzaal:geo:52.307886,6.927518
END:VEVENT
BEGIN:VTIMEZONE
TZID:Europe/Amsterdam
X-LIC-LOCATION:Europe/Amsterdam
BEGIN:STANDARD
DTSTART:20251026T020000
TZOFFSETFROM:+0200
TZOFFSETTO:+0100
TZNAME:CET
END:STANDARD
END:VTIMEZONE
END:VCALENDAR