BEGIN:VCALENDAR
VERSION:2.0
PRODID:-//wp-events-plugin.com//7.2.3.1//EN
TZID:Europe/Amsterdam
X-WR-TIMEZONE:Europe/Amsterdam
BEGIN:VEVENT
UID:419@plechelmus-parochie.nl
DTSTART;TZID=Europe/Amsterdam:20251224T190000
DTEND;TZID=Europe/Amsterdam:20251224T190000
DTSTAMP:20251119T191801Z
URL:https://www.plechelmus-parochie.nl/evenementen/eucharistieviering-nach
 tmis-in-rossum/
SUMMARY:Eucharistieviering - Nachtmis in Rossum
DESCRIPTION:Eucharistieviering - Nachtmis in Rossum m.m.v. Pastor B. Reerin
 k pr.\n\nKijk hier voor de lezingen van 24 december 2025.\n\nInformatie ov
 er Kerst\n\n\n\n&nbsp\;
ATTACH;FMTTYPE=image/jpeg:https://www.plechelmus-parochie.nl/wp-content/up
 loads/2024/07/1000_categorie_eucharistieviering.jpg
CATEGORIES:Eucharistieviering
LOCATION:Plechelmuskerk Rossum\, Thijplein 3\, Rossum\, Overijssel\, 7596 K
 M\, Twente\, Nederland
GEO:52.352159;6.922394
X-APPLE-STRUCTURED-LOCATION;VALUE=URI;X-ADDRESS=Thijplein 3\, Rossum\, Over
 ijssel\, 7596 KM\, Twente\, Nederland;X-APPLE-RADIUS=100;X-TITLE=Plechelmu
 skerk Rossum:geo:52.352159,6.922394
END:VEVENT
BEGIN:VTIMEZONE
TZID:Europe/Amsterdam
X-LIC-LOCATION:Europe/Amsterdam
BEGIN:STANDARD
DTSTART:20251026T020000
TZOFFSETFROM:+0200
TZOFFSETTO:+0100
TZNAME:CET
END:STANDARD
END:VTIMEZONE
END:VCALENDAR