BEGIN:VCALENDAR
VERSION:2.0
PRODID:-//wp-events-plugin.com//7.2.3.1//EN
TZID:Europe/Amsterdam
X-WR-TIMEZONE:Europe/Amsterdam
BEGIN:VEVENT
UID:354@plechelmus-parochie.nl
DTSTART;TZID=Europe/Amsterdam:20260402T190000
DTEND;TZID=Europe/Amsterdam:20260402T190000
DTSTAMP:20260326T163905Z
URL:https://www.plechelmus-parochie.nl/evenementen/eucharistieviering-palm
 pasen/
SUMMARY:Eucharistieviering - Witte Donderdag
DESCRIPTION:Eucharistieviering Weerselo - voorganger Pastor Th. van der Sma
 n pr.\n\nKijk hier voor de lezingen van Witte Donderdag 2 april 2026\n\nMe
 er info over de Goede Week  en Witte Donderdag
ATTACH;FMTTYPE=image/jpeg:https://www.plechelmus-parochie.nl/wp-content/up
 loads/2024/07/1000_categorie_eucharistieviering.jpg
CATEGORIES:Eucharistieviering
LOCATION:Remigiuskerk Weerselo\, Legtenbergerstraat 2\, Weerselo\, Overijss
 el\, 7595 XB\, Twente\, Nederland
GEO:52.351165;6.858109
X-APPLE-STRUCTURED-LOCATION;VALUE=URI;X-ADDRESS=Legtenbergerstraat 2\, Weer
 selo\, Overijssel\, 7595 XB\, Twente\, Nederland;X-APPLE-RADIUS=100;X-TITL
 E=Remigiuskerk Weerselo:geo:52.351165,6.858109
END:VEVENT
BEGIN:VTIMEZONE
TZID:Europe/Amsterdam
X-LIC-LOCATION:Europe/Amsterdam
BEGIN:DAYLIGHT
DTSTART:20260329T030000
TZOFFSETFROM:+0100
TZOFFSETTO:+0200
TZNAME:CEST
END:DAYLIGHT
END:VTIMEZONE
END:VCALENDAR