BEGIN:VCALENDAR
VERSION:2.0
PRODID:-//wp-events-plugin.com//7.2.3.1//EN
TZID:Europe/Amsterdam
X-WR-TIMEZONE:Europe/Amsterdam
BEGIN:VEVENT
UID:411@plechelmus-parochie.nl
DTSTART;TZID=Europe/Amsterdam:20241213T170000
DTEND;TZID=Europe/Amsterdam:20241213T170000
DTSTAMP:20251117T163626Z
URL:https://www.plechelmus-parochie.nl/evenementen/schelpjesviering-voor-k
 inderen-2/
SUMMARY:Schelpjesviering voor kinderen
DESCRIPTION:Schelpjesviering in Saasveld - voorganger Pastor B. Reerink pr.
ATTACH;FMTTYPE=image/jpeg:https://www.plechelmus-parochie.nl/wp-content/up
 loads/2024/07/1000_schelpjesviering_400.jpg
CATEGORIES:Schelpjesviering
LOCATION:Plechelmuskerk Saasveld\, Hoflaan 18\, Saasveld\, Overijssel\, 759
 7 LS\, Twente\, Nederland
GEO:52.33079;6.810063
X-APPLE-STRUCTURED-LOCATION;VALUE=URI;X-ADDRESS=Hoflaan 18\, Saasveld\, Ove
 rijssel\, 7597 LS\, Twente\, Nederland;X-APPLE-RADIUS=100;X-TITLE=Plechelm
 uskerk Saasveld:geo:52.33079,6.810063
END:VEVENT
BEGIN:VTIMEZONE
TZID:Europe/Amsterdam
X-LIC-LOCATION:Europe/Amsterdam
BEGIN:STANDARD
DTSTART:20241027T020000
TZOFFSETFROM:+0200
TZOFFSETTO:+0100
TZNAME:CET
END:STANDARD
END:VTIMEZONE
END:VCALENDAR