BEGIN:VCALENDAR
VERSION:2.0
PRODID:-//wp-events-plugin.com//7.2.3.1//EN
TZID:Europe/Amsterdam
X-WR-TIMEZONE:Europe/Amsterdam
BEGIN:VEVENT
UID:408@plechelmus-parochie.nl
DTSTART;TZID=Europe/Amsterdam;VALUE=DATE:20251102
DTEND;TZID=Europe/Amsterdam;VALUE=DATE:20251103
DTSTAMP:20251102T091718Z
URL:https://www.plechelmus-parochie.nl/evenementen/woord-en-gebedsviering-
 allerheiligen/
SUMMARY:Woord- en gebedsviering - Allerzielenm
DESCRIPTION:Allerheiligen - Woord- en gebedsviering in het Emmaushuis - voo
 rganger vrijwilliger.\n\nKijk hier voor de lezingen op Allerheiligen 1 nov
 ember  2025.\n\nMaar info over Allerheiligen\n\nMeer info over Allerziele
 n
ATTACH;FMTTYPE=image/jpeg:https://www.plechelmus-parochie.nl/wp-content/up
 loads/2024/07/1000_categorie_gebedsviering.jpg
CATEGORIES:Woord- en gebedsviering
LOCATION:Pastoraal steunpunt Emmaushuis\, Willem Dingeldeinstraat 37\, Olde
 nzaal\, Overijssel\, 7576 TS\, Twente\, Nederland
GEO:52.314488;6.907965
X-APPLE-STRUCTURED-LOCATION;VALUE=URI;X-ADDRESS=Willem Dingeldeinstraat 37\
 , Oldenzaal\, Overijssel\, 7576 TS\, Twente\, Nederland;X-APPLE-RADIUS=100
 ;X-TITLE=Pastoraal steunpunt Emmaushuis:geo:52.314488,6.907965
END:VEVENT
BEGIN:VTIMEZONE
TZID:Europe/Amsterdam
X-LIC-LOCATION:Europe/Amsterdam
BEGIN:STANDARD
DTSTART:20251026T020000
TZOFFSETFROM:+0200
TZOFFSETTO:+0100
TZNAME:CET
END:STANDARD
END:VTIMEZONE
END:VCALENDAR