BEGIN:VCALENDAR
VERSION:2.0
PRODID:-//wp-events-plugin.com//7.2.3.1//EN
TZID:Europe/Amsterdam
X-WR-TIMEZONE:Europe/Amsterdam
BEGIN:VEVENT
UID:407@plechelmus-parochie.nl
DTSTART;TZID=Europe/Amsterdam:20260418T190000
DTEND;TZID=Europe/Amsterdam:20260418T190000
DTSTAMP:20260330T123359Z
URL:https://www.plechelmus-parochie.nl/evenementen/woord-en-gebedsviering-
 allerzielen/
SUMMARY:Woord- en gebedsviering
DESCRIPTION:Woord- en gebedsviering op zondagavond in Pastoraal steunpunt M
 ariakerk Berghuizen - voorganger Pastor I. Wilbers pw.\n\nDe viering wordt
  gehouden in het parochiecentrum.\n\nKijk hier voor de lezingen van weeken
 d 19 april 2026
ATTACH;FMTTYPE=image/jpeg:https://www.plechelmus-parochie.nl/wp-content/up
 loads/2024/07/1000_categorie_gebedsviering.jpg
CATEGORIES:Woord- en gebedsviering
LOCATION:Pastoraal steunpunt Mariakerk\, Mariastraat 17\, Oldenzaal\, Overi
 jssel\, 7574 ZM\, Twente\, Nederland
GEO:52.300949;6.933799
X-APPLE-STRUCTURED-LOCATION;VALUE=URI;X-ADDRESS=Mariastraat 17\, Oldenzaal\
 , Overijssel\, 7574 ZM\, Twente\, Nederland;X-APPLE-RADIUS=100;X-TITLE=Pas
 toraal steunpunt Mariakerk:geo:52.300949,6.933799
END:VEVENT
BEGIN:VTIMEZONE
TZID:Europe/Amsterdam
X-LIC-LOCATION:Europe/Amsterdam
BEGIN:DAYLIGHT
DTSTART:20260329T030000
TZOFFSETFROM:+0100
TZOFFSETTO:+0200
TZNAME:CEST
END:DAYLIGHT
END:VTIMEZONE
END:VCALENDAR